Felt | Verdi |
AlreadyApplied | True |
Aperture | 11.0 |
ApertureValue | 11.0 |
AutoLateralCA | 1 |
BitsPerSample | 8 |
Blacks2012 | +31 |
BlueHue | 0 |
BlueSaturation | 0 |
BrightnessValue | 10.01 |
CameraProfile | Adobe Standard |
CircleOfConfusion | 0.020 mm |
Clarity2012 | 0 |
ColorComponents | 3 |
ColorGradeBlending | 50 |
ColorGradeGlobalHue | 210 |
ColorGradeGlobalLum | 0 |
ColorGradeGlobalSat | 9 |
ColorGradeHighlightLum | 0 |
ColorGradeMidtoneHue | 33 |
ColorGradeMidtoneLum | 0 |
ColorGradeMidtoneSat | 16 |
ColorGradeShadowLum | 0 |
ColorNoiseReduction | 25 |
ColorNoiseReductionDetail | 50 |
ColorNoiseReductionSmoothness | 50 |
ColorSpace | sRGB |
ColorTemperature | 5400 |
ColorTransform | YCbCr |
Contrast2012 | 0 |
CreateDate | 2021:10:23 15:21:15 |
CreatorTool | Digital Camera X-T4 Ver1.22 |
CropAngle | -0.848661 |
CropBottom | 0.978263 |
CropConstrainToWarp | 0 |
CropLeft | 0.006038 |
CropRight | 0.993962 |
CropTop | 0.021737 |
CustomRendered | Normal |
DateCreated (1) | 2021:10:23 15:21:15 |
DateCreated | 2021:10:23 |
DateTimeOriginal | 2021:10:23 15:21:15 |
DefringeGreenAmount | 0 |
DefringeGreenHueHi | 60 |
DefringeGreenHueLo | 40 |
DefringePurpleAmount | 0 |
DefringePurpleHueHi | 70 |
DefringePurpleHueLo | 30 |
Dehaze | 0 |
Exposure2012 | 0.00 |
ExposureCompensation | 0 |
ExposureMode | Auto |
ExposureProgram | Aperture-priority AE |
ExposureTime | 1/300 |
Flash | No Flash |
FNumber | 11.0 |
FocalLength | 22.0 mm |
FocalLength35efl | 22.0 mm (35 mm equivalent: 33.0 mm) |
FocalLengthIn35mmFormat | 33 mm |
Format | image/jpeg |
FOV | 57.2 deg |
FujiRatingAlreadyApplied | True |
GrainAmount | 0 |
GrayMixerAqua | 0 |
GrayMixerBlue | 0 |
GrayMixerGreen | 0 |
GrayMixerMagenta | 0 |
GrayMixerOrange | 0 |
GrayMixerPurple | 0 |
GrayMixerRed | 0 |
GrayMixerYellow | 0 |
GreenHue | 0 |
GreenSaturation | 0 |
HasCrop | True |
HasSettings | True |
Highlights2012 | 0 |
HueAdjustmentAqua | +31 |
HueAdjustmentBlue | -13 |
HueAdjustmentGreen | -90 |
HueAdjustmentMagenta | +25 |
HueAdjustmentOrange | +13 |
HueAdjustmentPurple | +10 |
HueAdjustmentRed | +47 |
HueAdjustmentYellow | -96 |
HyperfocalDistance | 2.20 m |
ImageHeight | 4070 |
ImageSize | 6105x4070 |
ImageWidth | 6105 |
ISO | 160 |
LateralChromaticAberrationCorrectionAlreadyApplied | True |
Lens | XF16-55mmF2.8 R LM WR |
LensInfo | 16-55mm f/2.8 |
LensMake | FUJIFILM |
LensManualDistortionAmount | 0 |
LensModel | XF16-55mmF2.8 R LM WR |
LensProfileEnable | 0 |
LensSerialNumber | 15C00588 |
LightSource | Unknown |
LightValue | 14.5 |
LookAmount | 1.000000 |
LookCluster | Adobe |
LookCopyright | © 2018 Adobe Systems, Inc. |
LookGroup | B&W |
LookName | B&W 04 |
LookParametersClarity2012 | +8 |
LookParametersContrast2012 | +8 |
LookParametersConvertToGrayscale | True |
LookParametersLookTable | AC0E24EFC658D3BD29B430044AE2FB7C |
LookParametersProcessVersion | 11.0 |
LookParametersToneCurvePV2012 | 0, 0, 17, 10, 34, 24, 51, 41, 68, 63, 85, 89, 102, 116, 119, 143, 136, 169, 153, 193, 170, 212, 187, 228, 204, 239, 221, 246, 238, 251, 255, 255 |
LookParametersToneCurvePV2012Blue | 0, 0, 255, 255 |
LookParametersToneCurvePV2012Green | 0, 0, 255, 255 |
LookParametersToneCurvePV2012Red | 0, 0, 255, 255 |
LookParametersVersion | 13.3 |
LookSortName | B&W 04 |
LookSupportsMonochrome | false |
LuminanceAdjustmentAqua | 0 |
LuminanceAdjustmentBlue | -57 |
LuminanceAdjustmentGreen | +43 |
LuminanceAdjustmentMagenta | 0 |
LuminanceAdjustmentOrange | +3 |
LuminanceAdjustmentPurple | 0 |
LuminanceAdjustmentRed | -20 |
LuminanceAdjustmentYellow | -1 |
LuminanceSmoothing | 0 |
Make | FUJIFILM |
MaxApertureValue | 2.8 |
Megapixels | 24.8 |
MeteringMode | Multi-segment |
Model | X-T4 |
ModifyDate (1) | 2021:10:24 08:50:11+02:00 |
ModifyDate | 2021:10:24 08:50:11 |
OverrideLookVignette | False |
ParametricDarks | 0 |
ParametricHighlights | 0 |
ParametricHighlightSplit | 75 |
ParametricLights | 0 |
ParametricMidtoneSplit | 50 |
ParametricShadows | 0 |
ParametricShadowSplit | 25 |
PerspectiveAspect | 0 |
PerspectiveHorizontal | 0 |
PerspectiveRotate | 0.0 |
PerspectiveScale | 100 |
PerspectiveUpright | 0 |
PerspectiveVertical | 0 |
PerspectiveX | 0.00 |
PerspectiveY | 0.00 |
PostCropVignetteAmount | 0 |
ProcessVersion | 11.0 |
ProfileDescription | sRGB IEC61966-2.1 |
RedHue | 0 |
RedSaturation | 0 |
Saturation | 0 |
SaturationAdjustmentAqua | -93 |
SaturationAdjustmentBlue | -75 |
SaturationAdjustmentGreen | -78 |
SaturationAdjustmentMagenta | -20 |
SaturationAdjustmentOrange | -23 |
SaturationAdjustmentPurple | -10 |
SaturationAdjustmentRed | -47 |
SaturationAdjustmentYellow | -14 |
ScaleFactor35efl | 1.5 |
SceneCaptureType | Standard |
SceneType | Directly photographed |
SensingMethod | One-chip color area |
SensitivityType | Standard Output Sensitivity |
SerialNumber | 1BQ05127 |
Shadows2012 | 0 |
ShadowTint | 0 |
SharpenDetail | 25 |
SharpenEdgeMasking | 0 |
SharpenRadius | +1.0 |
Sharpness (1) | 40 |
Sharpness | Normal |
ShutterSpeed | 1/300 |
ShutterSpeedValue | 1/300 |
Software | Digital Camera X-T4 Ver1.22 |
SplitToningBalance | 0 |
SplitToningHighlightHue | 219 |
SplitToningHighlightSaturation | 23 |
SplitToningShadowHue | 234 |
SplitToningShadowSaturation | 18 |
SubjectDistanceRange | Unknown |
Texture | 0 |
Tint | +26 |
ToneCurveName2012 | Custom |
ToneCurvePV2012 | 1, 40, 47, 48, 97, 90, 161, 148, 255, 223 |
ToneCurvePV2012Blue | 0, 0, 38, 18, 76, 70, 115, 122, 179, 200, 255, 255 |
ToneCurvePV2012Green | 0, 0, 46, 20, 86, 72, 115, 124, 179, 200, 255, 255 |
ToneCurvePV2012Red | 0, 0, 47, 19, 82, 61, 114, 122, 177, 196, 255, 255 |
Version | 13.3 |
Vibrance | +26 |
VignetteAmount | 0 |
WhiteBalance (1) | As Shot |
WhiteBalance | Auto |
Whites2012 | -70 |