Felt | Verdi |
AlreadyApplied | True |
Aperture | 22.0 |
ApertureValue | 22.0 |
ApproximateFocusDistance | 197 |
AutoLateralCA | 1 |
AutoWhiteVersion | 134348800 |
BitsPerSample | 8 |
Blacks2012 | +38 |
BlueHue | 0 |
BlueSaturation | 0 |
CameraProfile | Adobe Standard |
CircleOfConfusion | 0.023 mm |
Clarity2012 | +13 |
ColorComponents | 3 |
ColorNoiseReduction | 70 |
ColorNoiseReductionDetail | 50 |
ColorNoiseReductionSmoothness | 62 |
ColorSpace | sRGB |
ColorTemperature | 6950 |
ColorTransform | YCbCr |
Contrast2012 | +7 |
ConvertToGrayscale | True |
CreateDate (1) | 2023:01:31 14:52:12.27 |
CreateDate | 2023:01:31 14:52:12 |
CreatorTool | Adobe Photoshop Lightroom 6.12 (Macintosh) |
CropAngle | 0 |
CropBottom | 1 |
CropConstrainToWarp | 0 |
CropLeft | 0.111883 |
CropRight | 0.761372 |
CropTop | 0.025766 |
CustomRendered | Normal |
DateCreated (1) | 2023:01:31 |
DateCreated | 2023:01:31 14:52:12.27 |
DateTimeOriginal | 2023:01:31 14:52:12 |
Dehaze | -23 |
DistortionCorrectionAlreadyApplied | True |
DOF | inf (3.77 m - inf) |
Exposure2012 | -1.45 |
ExposureCompensation | 0 |
ExposureMode | Manual |
ExposureProgram | Manual |
ExposureTime | 0.4 |
Firmware | 1.0.4 |
Flash | Off, Did not fire |
FlashCompensation | 0 |
FNumber | 22.0 |
FocalLength | 44.0 mm |
FocalLength35efl | 44.0 mm (35 mm equivalent: 57.7 mm) |
Format | image/jpeg |
FOV | 34.7 deg |
GrainAmount | 21 |
GrainFrequency | 50 |
GrainSize | 25 |
GrayMixerAqua | -18 |
GrayMixerBlue | +33 |
GrayMixerGreen | -27 |
GrayMixerMagenta | +4 |
GrayMixerOrange | -72 |
GrayMixerPurple | +16 |
GrayMixerRed | -10 |
GrayMixerYellow | -100 |
GreenHue | 0 |
GreenSaturation | 0 |
HasCrop | True |
HasSettings | True |
Highlights2012 | +45 |
HyperfocalDistance | 3.84 m |
ImageHeight | 4053 |
ImageNumber | 0 |
ImageSize | 4053x4053 |
ImageWidth | 4053 |
ISO | 100 |
LateralChromaticAberrationCorrectionAlreadyApplied | True |
Lens | EF24-70mm f/2.8L II USM |
LensID (1) | 495 |
LensID | Canon EF 24-70mm f/2.8L II USM |
LensInfo | 24-70mm f/? |
LensManualDistortionAmount | 0 |
LensModel | EF24-70mm f/2.8L II USM |
LensProfileChromaticAberrationScale | 100 |
LensProfileDistortionScale | 100 |
LensProfileEnable | 1 |
LensProfileFilename | Canon EOS 5D Mark II (Canon EF 24-70mm f2.8 L II USM) - RAW.lcp |
LensProfileName | Adobe (Canon EF 24-70mm f/2.8 L II USM) |
LensProfileSetup | LensDefaults |
LensProfileVignettingScale | 100 |
LensSerialNumber | 3630000901 |
LightValue | 10.2 |
LuminanceNoiseReductionContrast | 63 |
LuminanceNoiseReductionDetail | 50 |
LuminanceSmoothing | 62 |
Make | Canon |
MaxApertureValue | 2.8 |
Megapixels | 16.4 |
MeteringMode | Partial |
Model | Canon EOS 6D Mark II |
ModifyDate (1) | 2023:01:30 16:24:39+01:00 |
ModifyDate | 2023:01:30 16:24:39 |
PaintCorrectionActive | true |
PaintCorrectionAmount | 1.000000 |
PaintCorrectionBrightness | 0.000000 |
PaintCorrectionClarity2012 (1) | 0.000000 |
PaintCorrectionClarity2012 | -0.096147 |
PaintCorrectionContrast2012 (1) | 0.038004 |
PaintCorrectionContrast2012 | 0.154880 |
PaintCorrectionDefringe | 0.000000 |
PaintCorrectionExposure2012 (1) | 0.054983 |
PaintCorrectionExposure2012 | 0.125194 |
PaintCorrectionHighlights2012 (1) | 0.073072 |
PaintCorrectionHighlights2012 | 0.061908 |
PaintCorrectionHue | 230.000000 |
PaintCorrectionLocalBlacks2012 | 0.000000 |
PaintCorrectionLocalDehaze (1) | 0.013544 |
PaintCorrectionLocalDehaze | 0.000000 |
PaintCorrectionLocalWhites2012 (1) | 0.109190 |
PaintCorrectionLocalWhites2012 | 0.002590 |
PaintCorrectionLuminanceNoise | 0.000000 |
PaintCorrectionMaskCenterWeight | 0.209762 |
PaintCorrectionMaskFlow | 0.644527 |
PaintCorrectionMaskRadius (1) | 0.040758 |
PaintCorrectionMaskRadius (2) | 0.040826 |
PaintCorrectionMaskRadius | 0.180320 |
PaintCorrectionMaskValue (1) | 0.514248 |
PaintCorrectionMaskValue | 0.625793 |
PaintCorrectionMaskWhat | Mask/Paint |
PaintCorrectionMoire | 0.000000 |
PaintCorrectionSaturation (1) | -0.498216 |
PaintCorrectionSaturation (3) | -0.549737 |
PaintCorrectionSaturation | 0.000000 |
PaintCorrectionShadows2012 | 0.000000 |
PaintCorrectionSharpness (1) | 0.000000 |
PaintCorrectionSharpness | 0.101549 |
PaintCorrectionTemperature | 0.000000 |
PaintCorrectionTint | 0.000000 |
PaintCorrectionWhat | Correction |
ParametricDarks | 0 |
ParametricHighlights | 0 |
ParametricHighlightSplit | 75 |
ParametricLights | 0 |
ParametricMidtoneSplit | 50 |
ParametricShadows | 0 |
ParametricShadowSplit | 25 |
PerspectiveAspect | 0 |
PerspectiveHorizontal | 0 |
PerspectiveRotate | 0.0 |
PerspectiveScale | 100 |
PerspectiveUpright | 1 |
PerspectiveVertical | 0 |
PerspectiveX | 0.00 |
PerspectiveY | 0.00 |
PostCropVignetteAmount | -9 |
PostCropVignetteFeather | 50 |
PostCropVignetteHighlightContrast | 0 |
PostCropVignetteMidpoint | 50 |
PostCropVignetteRoundness | 0 |
PostCropVignetteStyle | 1 |
ProcessVersion | 6.7 |
ProfileDescription | sRGB IEC61966-2.1 |
RecommendedExposureIndex | 100 |
RedHue | 0 |
RedSaturation | 0 |
ScaleFactor35efl | 1.3 |
SceneCaptureType | Standard |
SensitivityType | Recommended Exposure Index |
SerialNumber | 283052000091 |
Shadows2012 | +39 |
ShadowTint | 0 |
SharpenDetail | 49 |
SharpenEdgeMasking | 0 |
SharpenRadius | +1.0 |
Sharpness | 65 |
ShutterSpeed | 0.4 |
ShutterSpeedValue | 0.4 |
Software | Adobe Photoshop Lightroom 6.12 (Macintosh) |
SplitToningBalance | 0 |
SplitToningHighlightHue | 0 |
SplitToningHighlightSaturation | 0 |
SplitToningShadowHue | 0 |
SplitToningShadowSaturation | 0 |
Tint | +7 |
ToneCurve | 0, 0, 255, 255 |
ToneCurveBlue | 0, 0, 255, 255 |
ToneCurveGreen | 0, 0, 255, 255 |
ToneCurveName | Linear |
ToneCurveName2012 | Custom |
ToneCurvePV2012 | 0, 0, 80, 82, 143, 155, 208, 208, 255, 255 |
ToneCurvePV2012Blue | 0, 0, 255, 255 |
ToneCurvePV2012Green | 0, 0, 255, 255 |
ToneCurvePV2012Red | 0, 0, 255, 255 |
ToneCurveRed | 0, 0, 255, 255 |
ToneMapStrength | 0 |
Version | 9.12 |
VignetteAmount | 0 |
VignetteCorrectionAlreadyApplied | True |
WhiteBalance (1) | As Shot |
WhiteBalance | Auto |
Whites2012 | -22 |