Felt | Verdi |
AlreadyApplied | True |
Aperture | 9.0 |
ApertureValue | 9.0 |
Artist | Ole Graneng |
BitsPerSample | 8 |
BlackClip | 0.110750 |
BlueHue | 0 |
BlueSaturation | 0 |
Brightness | +31 |
By-line | Ole Graneng |
CameraProfile | Embedded |
ChromaticAberrationB | 0 |
ChromaticAberrationR | 0 |
Clarity | 0 |
ColorComponents | 3 |
ColorNoiseReduction | 0 |
ColorSaturation | 37 |
ColorTemperature | 1 |
Contrast | +6 |
ConvertToGrayscale | False |
CreateDate | 2009:07:23 22:34:25+02:00 |
Creator | Ole Graneng |
CreatorTool | Adobe Photoshop Lightroom |
CropAngle | 0 |
CropBottom | 0.904204 |
CropHeight | 2340 |
CropLeft | 0.022832 |
CropRight | 0.985625 |
CropTop | 0.001585 |
CropUnit | pixels |
CropWidth | 3743 |
DateTimeOriginal (1) | 2009:07:23 22:34:25+02:00 |
DateTimeOriginal | 2009:07:23 22:34:25 |
Defringe | 0 |
ExifImageHeight | 2340 |
ExifImageWidth | 3743 |
Exposure | 0.00 |
ExposureTime | 1/4 |
FillLight | 0 |
FNumber | 9.0 |
FocalLength | 16.0 mm |
FocalLength35efl | 16.0 mm |
Gamma | 1.028114 |
GreenHue | 0 |
GreenSaturation | 0 |
HasCrop | True |
HasSettings | True |
HighlightRecovery | 0 |
HighlightsSmoothing | 6 |
HueAdjustmentAqua | 0 |
HueAdjustmentBlue | 0 |
HueAdjustmentGreen | 0 |
HueAdjustmentMagenta | 0 |
HueAdjustmentOrange | 0 |
HueAdjustmentPurple | 0 |
HueAdjustmentRed | 0 |
HueAdjustmentYellow | 0 |
ImageHeight | 2340 |
ImageSize | 3743x2340 |
ImageWidth | 3743 |
IncrementalTemperature | 0 |
IncrementalTint | 0 |
ISO | 100 |
LightValue | 8.3 |
LuminanceAdjustmentAqua | 0 |
LuminanceAdjustmentBlue | 0 |
LuminanceAdjustmentGreen | 0 |
LuminanceAdjustmentMagenta | 0 |
LuminanceAdjustmentOrange | 0 |
LuminanceAdjustmentPurple | 0 |
LuminanceAdjustmentRed | 0 |
LuminanceAdjustmentYellow | 0 |
LuminanceSmoothing | 0 |
Luminosity | -2 |
Megapixels | 8.8 |
Method | Details Enhancer |
Microcontrast | 5 |
Microsmoothing | 2 |
Model | Canon EOS-1D Mark III |
ModifyDate (1) | 2009:07:26 00:38:13+02:00 |
ModifyDate | 2009:07:26 00:38:13 |
ParametricDarks | 0 |
ParametricHighlights | 0 |
ParametricHighlightSplit | 75 |
ParametricLights | 0 |
ParametricMidtoneSplit | 50 |
ParametricShadows | 0 |
ParametricShadowSplit | 25 |
PostCropVignetteAmount | 0 |
ProfileDescription | sRGB IEC61966-2.1 |
RedHue | 0 |
RedSaturation | 0 |
Saturation | 0 |
SaturationAdjustmentAqua | 0 |
SaturationAdjustmentBlue | 0 |
SaturationAdjustmentGreen | 0 |
SaturationAdjustmentMagenta | 0 |
SaturationAdjustmentOrange | 0 |
SaturationAdjustmentPurple | 0 |
SaturationAdjustmentRed | 0 |
SaturationAdjustmentYellow | 0 |
SaturationHighlights | 6 |
SaturationShadows | 3 |
Shadows | 0 |
ShadowsClipping | 0 |
ShadowsSmoothing | 2 |
ShadowTint | 0 |
SharpenDetail | 25 |
SharpenEdgeMasking | 0 |
SharpenRadius | +1.0 |
Sharpness | 0 |
ShutterSpeed | 1/4 |
ShutterSpeedValue | 1/4 |
Smoothing | High |
SplitToningBalance | 0 |
SplitToningHighlightHue | 0 |
SplitToningHighlightSaturation | 0 |
SplitToningShadowHue | 0 |
SplitToningShadowSaturation | 0 |
Strength | 82 |
ToneCurve | 0, 0, 255, 255 |
ToneCurveName | Linear |
Version (1) | 3.1 |
Version | 5.4 |
Vibrance | +6 |
VignetteAmount | 0 |
WhiteBalance | As Shot |
WhiteClip | 1.884350 |