Felt | Verdi |
AlreadyApplied | True |
Aperture | 4.0 |
ApertureValue | 4.0 |
BitsPerSample | 8 |
BlueHue | 0 |
BlueSaturation | 0 |
Brightness | +18 |
By-line | Torstein Hall |
CameraProfile | Adobe Standard |
Caption-Abstract | Foto: Torstein Hall |
CFAPattern | [Blue,Green][Green,Red] |
ChromaticAberrationB | 0 |
ChromaticAberrationR | 0 |
Clarity | +12 |
ColorComponents | 3 |
ColorNoiseReduction | 39 |
ColorTemperature | 5333 |
Contrast (2) | +54 |
Contrast | Normal |
ConvertToGrayscale | False |
Copyright | Torstein Hall |
CopyrightFlag | True |
CopyrightNotice | Torstein Hall |
CreateDate (1) | 2010:01:31 12:48:14+01:00 |
CreateDate | 2010:01:31 12:48:14 |
Creator | Torstein Hall |
CreatorAddress | Vakåsveien 35b |
CreatorCity | Hvalstad |
CreatorCountry | Norway |
CreatorPostalCode | 1395 |
CreatorTool | Adobe Photoshop Lightroom |
CreatorWorkEmail | hall.torstein@gmail.com |
CreatorWorkTelephone | +47 94873470 |
CreatorWorkURL | www.ohb.no |
CropAngle | -0.880359 |
CropBottom | 0.980529 |
CropHeight | 756 |
CropLeft | 0.004647 |
CropRight | 0.966037 |
CropTop | 0.042242 |
CropUnit | pixels |
CropWidth | 1000 |
CustomRendered | Normal |
DateTimeDigitized | 2010:01:31 12:48:14+01:00 |
DateTimeOriginal (1) | 2010:01:31 12:48:14+01:00 |
DateTimeOriginal | 2010:01:31 12:48:14 |
Defringe | 0 |
Description | Foto: Torstein Hall |
DigitalZoomRatio | 1 |
ExifImageHeight | 756 |
ExifImageWidth | 1000 |
Exposure | 0.00 |
ExposureCompensation | +1.7 |
ExposureMode | Manual |
ExposureProgram | Aperture-priority AE |
ExposureTime | 1/250 |
FillLight | 0 |
Flash | Auto, Did not fire |
FlashCompensation | 0 |
FlashFired | False |
FlashFunction | False |
FlashMode | Auto |
FlashRedEyeMode | False |
FlashReturn | No return detection |
FNumber | 4.0 |
FocalLength | 19.0 mm |
FocalLength35efl | 19.0 mm |
GainControl | Low gain up |
GreenHue | 0 |
GreenSaturation | 0 |
HasCrop | True |
HasSettings | True |
HighlightRecovery | 12 |
HueAdjustmentAqua | 0 |
HueAdjustmentBlue | 0 |
HueAdjustmentGreen | 0 |
HueAdjustmentMagenta | 0 |
HueAdjustmentOrange | 0 |
HueAdjustmentPurple | 0 |
HueAdjustmentRed | 0 |
HueAdjustmentYellow | 0 |
ImageDescription | Foto: Torstein Hall |
ImageHeight | 756 |
ImageSize | 1000x756 |
ImageWidth | 1000 |
ISO | 200 |
Label | Foto: Torstein Hall |
Lens | OLYMPUS 14-54mm Lens |
LensInfo | 14-54mm f/2.8-3.5 |
LensSerialNumber | 050304913 |
LightSource | Unknown |
LightValue | 11.0 |
LuminanceAdjustmentAqua | 0 |
LuminanceAdjustmentBlue | 0 |
LuminanceAdjustmentGreen | 0 |
LuminanceAdjustmentMagenta | 0 |
LuminanceAdjustmentOrange | 0 |
LuminanceAdjustmentPurple | 0 |
LuminanceAdjustmentRed | 0 |
LuminanceAdjustmentYellow | 0 |
LuminanceSmoothing | 12 |
Make | OLYMPUS IMAGING CORP. |
Marked | True |
MaxApertureValue | 2.8 |
Megapixels | 0.756 |
MeteringMode | Multi-segment |
Model | E-30 |
ModifyDate (1) | 2010:01:31 18:59:07+01:00 |
ModifyDate | 2010:01:31 18:59:07 |
ParametricDarks | 0 |
ParametricHighlights | 0 |
ParametricHighlightSplit | 75 |
ParametricLights | 0 |
ParametricMidtoneSplit | 50 |
ParametricShadows | 0 |
ParametricShadowSplit | 25 |
PostCropVignetteAmount | 0 |
ProfileDescription | sRGB IEC61966-2.1 |
RedHue | 0 |
RedSaturation | 0 |
Rights | Torstein Hall |
Saturation (2) | +10 |
Saturation | Normal |
SaturationAdjustmentAqua | 0 |
SaturationAdjustmentBlue | 0 |
SaturationAdjustmentGreen | 0 |
SaturationAdjustmentMagenta | 0 |
SaturationAdjustmentOrange | 0 |
SaturationAdjustmentPurple | 0 |
SaturationAdjustmentRed | 0 |
SaturationAdjustmentYellow | 0 |
SceneCaptureType | Standard |
SerialNumber | G68503300 |
Shadows | 16 |
ShadowTint | 0 |
SharpenDetail | 54 |
SharpenEdgeMasking | 31 |
SharpenRadius | +0.8 |
Sharpness (2) | 71 |
Sharpness | Normal |
ShutterSpeed | 1/250 |
ShutterSpeedValue | 1/250 |
Software | Version 1.1 |
SplitToningBalance | 0 |
SplitToningHighlightHue | 0 |
SplitToningHighlightSaturation | 0 |
SplitToningShadowHue | 0 |
SplitToningShadowSaturation | 0 |
Tint | 0 |
ToneCurve | 0, 0, 32, 22, 64, 56, 128, 128, 192, 196, 255, 255 |
ToneCurveName | Medium Contrast |
Version | 5.6 |
Vibrance | +17 |
VignetteAmount | 0 |
WhiteBalance (2) | Custom |
WhiteBalance | Auto |