Felt | Verdi |
AlreadyApplied | True |
Aperture | 4.0 |
ApertureValue | 4.0 |
BitsPerSample | 8 |
BlueHue | 0 |
BlueSaturation | 0 |
Brightness | +50 |
By-line | Elin Dalen-Rasmussen |
CameraProfile | Adobe Standard |
Caption-Abstract | OLYMPUS DIGITAL CAMERA |
CFAPattern | [Blue,Green][Green,Red] |
ChromaticAberrationB | 0 |
ChromaticAberrationR | 0 |
Clarity | 0 |
ColorComponents | 3 |
ColorNoiseReduction | 25 |
ColorNoiseReductionDetail | 50 |
ColorTemperature | 5100 |
Contrast (2) | +55 |
Contrast | Normal |
ConvertToGrayscale | False |
Copyright | Elin Dalen-Rasmussen |
CopyrightFlag | True |
CopyrightNotice | Elin Dalen-Rasmussen |
CreateDate (1) | 2010:05:08 12:41:46+02:00 |
CreateDate | 2010:05:08 12:41:46 |
Creator | Elin Dalen-Rasmussen |
CreatorTool | Adobe Photoshop Lightroom |
CreatorWorkEmail | elindalen@hotmail.com |
CropAngle | 0 |
CropBottom | 0.875 |
CropHeight | 2495 |
CropLeft | 0 |
CropRight | 0.948357 |
CropTop | 0.05 |
CropUnit | pixels |
CropWidth | 3824 |
CustomRendered | Normal |
DateTimeDigitized | 2010:05:08 12:41:46+02:00 |
DateTimeOriginal (1) | 2010:05:08 12:41:46+02:00 |
DateTimeOriginal | 2010:05:08 12:41:46 |
Defringe | 0 |
Description | OLYMPUS DIGITAL CAMERA |
DigitalZoomRatio | 1 |
ExifImageHeight | 2495 |
ExifImageWidth | 3824 |
Exposure | +1.15 |
ExposureCompensation | 0 |
ExposureMode | Manual |
ExposureProgram | Manual |
ExposureTime | 1/640 |
FillLight | 6 |
Flash | On, Did not fire |
FlashCompensation | 0 |
FlashFired | False |
FlashFunction | False |
FlashMode | On |
FlashRedEyeMode | False |
FlashReturn | No return detection |
FNumber | 4.0 |
FocalLength | 50.0 mm |
FocalLength35efl | 50.0 mm |
GainControl | None |
GrainAmount | 0 |
GreenHue | 0 |
GreenSaturation | 0 |
HasCrop | True |
HasSettings | True |
HighlightRecovery | 0 |
HueAdjustmentAqua | 0 |
HueAdjustmentBlue | 0 |
HueAdjustmentGreen | 0 |
HueAdjustmentMagenta | 0 |
HueAdjustmentOrange | -40 |
HueAdjustmentPurple | 0 |
HueAdjustmentRed | -1 |
HueAdjustmentYellow | 0 |
ImageDescription | OLYMPUS DIGITAL CAMERA |
ImageHeight | 2495 |
ImageSize | 3824x2495 |
ImageWidth | 3824 |
ISO | 100 |
Keywords | Vigdel, fjell, landskap, natur, nø, strand, tre, vinter |
Lens | OLYMPUS 50mm Lens |
LensInfo | 50mm f/2 |
LensSerialNumber | 010213303 |
LightSource | Unknown |
LightValue | 13.3 |
LuminanceAdjustmentAqua | 0 |
LuminanceAdjustmentBlue | 0 |
LuminanceAdjustmentGreen | +8 |
LuminanceAdjustmentMagenta | 0 |
LuminanceAdjustmentOrange | +6 |
LuminanceAdjustmentPurple | 0 |
LuminanceAdjustmentRed | -24 |
LuminanceAdjustmentYellow | 0 |
LuminanceSmoothing | 0 |
Make | OLYMPUS IMAGING CORP. |
Marked | True |
MaxApertureValue | 2.0 |
Megapixels | 9.5 |
MeteringMode | Multi-segment |
Model | E-620 |
ModifyDate (1) | 2010:05:09 17:55:21+02:00 |
ModifyDate | 2010:05:09 17:55:21 |
ParametricDarks | -11 |
ParametricHighlights | +6 |
ParametricHighlightSplit | 75 |
ParametricLights | -9 |
ParametricMidtoneSplit | 50 |
ParametricShadows | +4 |
ParametricShadowSplit | 25 |
PostCropVignetteAmount | 0 |
ProcessVersion | 5.7 |
ProfileDescription | sRGB IEC61966-2.1 |
RedHue | 0 |
RedSaturation | 0 |
Rights | Elin Dalen-Rasmussen |
Saturation (2) | +10 |
Saturation | High |
SaturationAdjustmentAqua | 0 |
SaturationAdjustmentBlue | 0 |
SaturationAdjustmentGreen | 0 |
SaturationAdjustmentMagenta | 0 |
SaturationAdjustmentOrange | +24 |
SaturationAdjustmentPurple | 0 |
SaturationAdjustmentRed | 0 |
SaturationAdjustmentYellow | 0 |
SceneCaptureType | Standard |
SerialNumber | G74507106 |
Shadows | 9 |
ShadowTint | 0 |
SharpenDetail | 47 |
SharpenEdgeMasking | 0 |
SharpenRadius | +1.6 |
Sharpness (2) | 95 |
Sharpness | Hard |
ShutterSpeed | 1/640 |
ShutterSpeedValue | 1/640 |
Software | Version 1.0 |
SplitToningBalance | 0 |
SplitToningHighlightHue | 0 |
SplitToningHighlightSaturation | 0 |
SplitToningShadowHue | 0 |
SplitToningShadowSaturation | 0 |
Subject | Vigdel, fjell, landskap, natur, nø, strand, tre, vinter |
Tint | +9 |
ToneCurve | 0, 0, 32, 22, 64, 56, 128, 128, 192, 196, 255, 255 |
ToneCurveName | Medium Contrast |
Version | 6.0 |
Vibrance | +15 |
VignetteAmount | +100 |
VignetteMidpoint | 24 |
WhiteBalance (2) | As Shot |
WhiteBalance | Auto |