Felt | Verdi |
AlreadyApplied | True |
Aperture | 3.2 |
ApertureValue | 3.2 |
BitsPerSample | 8 |
BlueHue | 0 |
BlueSaturation | 0 |
Brightness | +53 |
By-line | Elin Dalen-Rasmussen |
CameraProfile | Adobe Standard |
Caption-Abstract | OLYMPUS DIGITAL CAMERA |
CFAPattern | [Blue,Green][Green,Red] |
ChromaticAberrationB | 0 |
ChromaticAberrationR | 0 |
Clarity | +31 |
ColorComponents | 3 |
ColorNoiseReduction | 25 |
ColorNoiseReductionDetail | 50 |
ColorTemperature | 5050 |
Contrast (2) | +36 |
Contrast | Normal |
ConvertToGrayscale | False |
Copyright | Elin Dalen-Rasmussen |
CopyrightFlag | True |
CopyrightNotice | Elin Dalen-Rasmussen |
CreateDate (1) | 2010:05:13 17:47:19+02:00 |
CreateDate | 2010:05:13 17:47:19 |
Creator | Elin Dalen-Rasmussen |
CreatorTool | Adobe Photoshop Lightroom |
CreatorWorkEmail | elindalen@hotmail.com |
CropAngle | 0 |
CropBottom | 1 |
CropHeight | 3024 |
CropLeft | 0.293427 |
CropRight | 0.795981 |
CropTop | 0 |
CropUnit | pixels |
CropWidth | 2026 |
CustomRendered | Normal |
DateTimeDigitized | 2010:05:13 17:47:19+02:00 |
DateTimeOriginal (1) | 2010:05:13 17:47:19+02:00 |
DateTimeOriginal | 2010:05:13 17:47:19 |
Defringe | 0 |
Description | OLYMPUS DIGITAL CAMERA |
DigitalZoomRatio | 1 |
ExifImageHeight | 3024 |
ExifImageWidth | 2026 |
Exposure | -0.41 |
ExposureCompensation | 0 |
ExposureMode | Manual |
ExposureProgram | Manual |
ExposureTime | 1/100 |
FillLight | 0 |
Flash | On, Did not fire |
FlashCompensation | 0 |
FlashFired | False |
FlashFunction | False |
FlashMode | On |
FlashRedEyeMode | False |
FlashReturn | No return detection |
FNumber | 3.2 |
FocalLength | 50.0 mm |
FocalLength35efl | 50.0 mm |
GainControl | Low gain up |
GrainAmount | 0 |
GreenHue | 0 |
GreenSaturation | 0 |
HasCrop | True |
HasSettings | True |
HighlightRecovery | 52 |
HueAdjustmentAqua | 0 |
HueAdjustmentBlue | 0 |
HueAdjustmentGreen | 0 |
HueAdjustmentMagenta | 0 |
HueAdjustmentOrange | 0 |
HueAdjustmentPurple | 0 |
HueAdjustmentRed | 0 |
HueAdjustmentYellow | 0 |
ImageDescription | OLYMPUS DIGITAL CAMERA |
ImageHeight | 3024 |
ImageSize | 2026x3024 |
ImageWidth | 2026 |
ISO | 200 |
Keywords | landskap, nø, tre, vinter |
Lens | OLYMPUS 50mm Lens |
LensInfo | 50mm f/2 |
LensSerialNumber | 010213303 |
LightSource | Fine Weather |
LightValue | 9.0 |
LuminanceAdjustmentAqua | 0 |
LuminanceAdjustmentBlue | 0 |
LuminanceAdjustmentGreen | 0 |
LuminanceAdjustmentMagenta | 0 |
LuminanceAdjustmentOrange | 0 |
LuminanceAdjustmentPurple | 0 |
LuminanceAdjustmentRed | 0 |
LuminanceAdjustmentYellow | 0 |
LuminanceSmoothing | 0 |
Make | OLYMPUS IMAGING CORP. |
Marked | True |
MaxApertureValue | 2.0 |
Megapixels | 6.1 |
MeteringMode | Spot |
Model | E-620 |
ModifyDate (1) | 2010:05:13 20:44:16+02:00 |
ModifyDate | 2010:05:13 20:44:16 |
ParametricDarks | -6 |
ParametricHighlights | +6 |
ParametricHighlightSplit | 75 |
ParametricLights | -17 |
ParametricMidtoneSplit | 50 |
ParametricShadows | -45 |
ParametricShadowSplit | 25 |
PostCropVignetteAmount | 0 |
ProcessVersion | 5.7 |
ProfileDescription | sRGB IEC61966-2.1 |
RedHue | 0 |
RedSaturation | 0 |
Rights | Elin Dalen-Rasmussen |
Saturation (2) | 0 |
Saturation | High |
SaturationAdjustmentAqua | 0 |
SaturationAdjustmentBlue | 0 |
SaturationAdjustmentGreen | 0 |
SaturationAdjustmentMagenta | 0 |
SaturationAdjustmentOrange | 0 |
SaturationAdjustmentPurple | 0 |
SaturationAdjustmentRed | 0 |
SaturationAdjustmentYellow | 0 |
SceneCaptureType | Standard |
SerialNumber | G74507106 |
Shadows | 9 |
ShadowTint | 0 |
SharpenDetail | 31 |
SharpenEdgeMasking | 0 |
SharpenRadius | +1.0 |
Sharpness (2) | 60 |
Sharpness | Hard |
ShutterSpeed | 1/100 |
ShutterSpeedValue | 1/100 |
Software | Version 1.0 |
SplitToningBalance | 0 |
SplitToningHighlightHue | 0 |
SplitToningHighlightSaturation | 0 |
SplitToningShadowHue | 0 |
SplitToningShadowSaturation | 0 |
Subject | landskap, nø, tre, vinter |
Tint | +8 |
ToneCurve | 0, 0, 32, 22, 64, 56, 128, 128, 192, 196, 255, 255 |
ToneCurveName | Medium Contrast |
Version | 6.0 |
Vibrance | 0 |
VignetteAmount | +72 |
VignetteMidpoint | 24 |
WhiteBalance (2) | As Shot |
WhiteBalance | Manual |